Workbook

Sheet Overview
I2: Maternity care pathway overview
L4: Thank you for providing information to the Maternity Care Pathway project
L8: Please enter general information about the pathway here and click on the pathway component map to enter data for each pathway component
Q11: Trust/unit name:
Q13: Contact email:
Q15: Time period covered by the pathway data:
Q17: Number of women entering the pathway:
N23: Please use the spaces below to record any comments or notes about yourpathway:

Sheet Antenatal
F2: Antenatal care pathway
K4: Please enter the total number for the whole patient population: | L4: =Overview!R17 -> 0 | O4: for the time period: | P4: =Overview!R15 -> 0
B7: Activities included in this pathway: | N7: Number of referral forms/admission information packs processed: | Q7: by post:
Q9: by email:
Q11: by telehealth or phone:
N14: Number of antenatal clinics attended: | Q14: at midwife/outpatient clinic:
Q16: at GP surgery:
Q18: at patient's home:
Q20: by telehealth or phone:
N23: Number of antenatal classes attended: | Q23: at midwife/outpatient clinic:
Q25: at GP surgery:
Q27: at third party premises:
Q29: by telehealth or phone:
N32: Number of antenatal screen sampling events: | Q32: at outpatients:
Q34: at patient's home:
N37: Number of ultrasound scans performed:
N40: Number of other diagnostic/screening tests performed:

Sheet MW-led Intrapartum
E2: Midwife-led intrapartum care pathway
N4: Please enter the total number of the whole patient population entering midwife-led intrapartum care: | R4: for the time period: | S4: =Overview!R15 -> 0
B7: Activities included in this pathway: | O7: Number of midwife-led labours in the time period in each setting:
K10: In midwife-led standalone unit: | N10: Mode of transport to unit (number of patients using each): | S10: Self travel to unit: | V10: Provided - non-emergency ambulance:
Q12: Provided - emergency ambulance):
K14: Number of spontaneous vaginal births: | Q14: Total duration of all patients staying in unit (days): | V14: Induction - membrane sweeps performed:
K16: Analgesia administered (number of patients): | O16: Entonox: | S16: Duration of entonox analgesia (hours): | V16: Pethidine or diamorphine (im):
I18: Number of patients transferred to obstetric unit: | N18: [Enter mode of transport to OG-unit on the OG-led intrapartum page]
K22: In midwife-led attached unit: | N22: Mode of transport to unit (number of patients using each): | S22: Self travel to unit: | V22: Provided - non-emergency ambulance:
Q24: Provided - emergency ambulance):
K26: Number of spontaneous vaginal births: | Q26: Total duration of all patients staying in unit (days): | V26: Induction - membrane sweeps performed:
K28: Analgesia administered (number of patients): | O28: Entonox: | S28: Duration of entonox analgesia (hours): | V28: Pethidine or diamorphine (im):
I30: Number of patients transferred to obstetric unit: | N30: [Enter mode of transport to OG-unit on the OG-led intrapartum page]
K34: In patient's home: | Q34: Number of spontaneous vaginal births:
K36: Analgesia administered (number of patients): | O36: Entonox: | S36: Duration of entonox analgesia (hours): | V36: Pethidine or diamorphine (im):
M38: Number of follow-up visits before handover to community health visitor: | V38: Induction - membrane sweeps performed:
I40: Number of patients transferred to obstetric unit: | N40: [Enter mode of transport to OG-unit on the OG-led intrapartum page]

Sheet OG-led Intrapartum
F2: Obstetric-led intrapartum care pathway
N4: Please enter the total number of the whole patient population entering obstetric-unit intrapartum care: | R4: for the time period: | S4: =Overview!R15 -> 0
C6: Activities included in this pathway:
M8: Mode of transport to unit (number of patients using each): | Q8: Self travel to unit: | T8: Provided - non-emergency ambulance: | Y8: Provided - emergency ambulance):
P10: Number of spontaneous vaginal births: | V10: Total duration of all patients staying in unit (days):
O12: Analgesia administered (number of patients): | S12: Entonox: | V12: Duration of entonox analgesia (minutes): | Z12: Epidural:
S14: Pethidine or diamorphine (im): | V14: iv analgesia (number of 1l bags): | Z14: Remifentanil:
O16: Ultrasound scans provided (number of instances for all patients):
M20: Inductions performed: | Q20: Number of patients induced:
Q22: Mode of induction (number of patients): | U22: Pharmacological induction: | X22: Balloon catheterisation:
U24: Osmotic cervical dilator: | X24: Amniotomy:
S26: Tocolosis to correct overstimulation: | X26: Oxytocin:
M30: Caesareans performed: | Q30: Planned: | V30: Average duration of surgery (hours):
Q32: Emergency: | V32: Average duration of surgery (hours):

Sheet Postnatal
F2: Postnatal care pathway
N4: Please enter the total number of the whole maternal patient population receiving postnatal care: | R4: for the time period: | S4: =Overview!R15 -> 0
B6: Activities included in this pathway:
N7: Number of midwife appointments provided: | Q7: at outpatient clinics:
Q9: at patient's home:
Q11: by telehealth or phone:
N14: Number of health visitor appointments provided: | Q14: at outpatient clinics:
Q16: at patient's home:
Q18: by telehealth or phone:
N21: Number of GP appointments attended: | Q21: at GP surgery:
Q23: at patient's home:
Q25: by telehealth or phone:
N28: Number of referrals to secondary care: | Q28: maternal care:
Q30: Infant care:
N32: Number of diagnostic tests performed:

Sheet Infant feeding
F2: Infant feeding pathway
I4: Please enter the total number of each pathway for the number of live births | L4: for the time period: | M4: =Overview!R15 -> 0
C6: Activities included in this pathway:
P7: Number of mothers receiving infant feeding advice:
P9: leaflets:
P11: other:
P14: Number of mothers initiating breast feeding:
P16: Number of infants given less than 20-30ml in first formula feed:
P18: Number of mothers (at time of discharge from midwife-led care):
P20: Exclusively breast feeding:
P22: Exclusively formula feeding:
P24: Mix of breast and formula feeding:
L27: Number of babies with physiological concerns (e.g. neonatal jaundice, weight loss, tongue tie, low blood sugar etc.): | R27: First 24 hours:
R29: 24 hours+:
P31: Total number of inpatient days due to physiological concerns:
P32: Of which, number of referrals due to tongue tie:
P34: Total number of paediatric outpatient appointments due to physiological councerns:
P36: Number of mothers referred to feeding/nutrition support services:

Sheet Hypertension
E1: Hypertension and pre-eclampsia care pathway
O3: Please enter the total number of the whole patient population entering the hypertension & pre-eclampsia care pathway: | S3: for the time period: | T3: =Overview!R15 -> 0
B5: Activities included in this pathway:
N6: Pre-eclampsia care:
R8: Number of women at high risk of pre-eclampsia: | U8: Number of courses of aspirin prescribed: | Y8: Number of PlGF tests administered:
R10: Number of women admitted for pre-eclampsia: | U10: Average length of admission pre-partum:
N12: Number of post-partum outpatient blood pressure assessments performed: | U12: Number of additional assessment appointments pre-partum:
N16: Hypertension care:
U18: Number of patients with pre-existing hypertension:
U20: Number of patients showing signs of risk factors for pre-eclampsia:
U22: Number of patients receiving aspirin daily:
U24: Number of patients identfied as having hypertension:
U26: Number of additional hypertension appointments | Y26: at GP surgery with midwife:
Y28: at outpatient appointment:
U30: Number of growth scans performed:
U32: Number of patients who have blood pressure monitoring postnatal:
U34: Total cost of alternative hypertensive medication:

Sheet Pelvic floor
E1: Pelvic floor health pathway
O3: Please enter the total number of the whole patient population entering the pelvic floor health pathway: | S3: for the time period: | T3: =Overview!R15 -> 0
B6: Activities included in this pathway: | J6: Antenatal pelvic floor pathway
M10: Leaflet
K12: Number of patients receiving antenatal plevic floor training and advice: | M12: Attend online class
M14: Attend F2F class
J19: Postnatal pelvic floor pathway
M23: Urinary incontinence
K25: Number of patients assessed at GP for pelvic floor issues: | M25: Faecal incontinence
M27: Pelvic organ prolapse
M30: Urinary incontinence
K32: Number of patients assessed at outpatients for pelvic floor issues: | M32: Faecal incontinence | P32: Number of ultra sound scans as a result of assessment
M34: Pelvic organ prolapse
M37: Urinary incontinence
K39: Number of patients assessed at home for pelvic floor issues | M39: Faecal incontinence
M41: Pelvic organ prolapse
M46: Lifestyle interventions
K47: Number of patients receiving non-surgical intervention
M48: Behavioural therapies
M50: Catheterisation
K52: Number of patients refered to gynaecology

Sheet Results
B2: Maternity care pathway - results
H6: Trust/unit name: | I6: =Overview!R11 -> 0
H8: Contact email: | I8: =Overview!R13 -> 0
H10: Time period covered by the pathway data: | I10: =Overview!R15 -> 0
H12: Number of women entering the pathway: | I12: =Overview!R17 -> 0
C17: Total maternity pathway - CO2e by activity type | L17: Total maternity pathway - CO2e by stage
D19: Total patient count | E19: Total carbon footprint (kg CO2e) | F19: Total carbon footprint (t CO2e) | G19: Carbon footprint per patient (kg CO2e) | M19: Total patient count | N19: Total carbon footprint (kg CO2e) | O19: Total carbon footprint (t CO2e) | P19: Carbon footprint per patient (kg CO2e)
C20: Patient travel | E20: =Calculations!S14 -> 0 | F20: =Calculations!T14 -> 0 | G20: =Calculations!U14 -> #DIV/0! | L20: Antenatal pathway | M20: =Calculations!Z14 -> 0 | N20: =Calculations!AA14 -> 0 | O20: =Calculations!AB14 -> 0 | P20: =Calculations!AC14 -> #DIV/0!
C21: Staff travel (excl. commuting) | E21: =Calculations!S15 -> 0 | F21: =Calculations!T15 -> 0 | G21: =Calculations!U15 -> #DIV/0! | L21: Intrapartum pathway | M21: =Calculations!Z15 -> 0 | N21: =Calculations!AA15 -> 0 | O21: =Calculations!AB15 -> 0 | P21: =Calculations!AC15 -> #DIV/0!
C22: Healthcare facility | E22: =Calculations!S16 -> 0 | F22: =Calculations!T16 -> 0 | G22: =Calculations!U16 -> #DIV/0! | L22: Postnatal pathway | M22: =Calculations!Z16 -> 0 | N22: =Calculations!AA16 -> 0 | O22: =Calculations!AB16 -> 0 | P22: =Calculations!AC16 -> #DIV/0!
C23: Ultrasound scans | E23: =Calculations!S17 -> 0 | F23: =Calculations!T17 -> 0 | G23: =Calculations!U17 -> #DIV/0! | L23: Infant feeding pathway | M23: =Calculations!Z17 -> 0 | N23: =Calculations!AA17 -> 0 | O23: =Calculations!AB17 -> 0 | P23: =Calculations!AC17 -> #DIV/0!
C24: Caesarean surgery | E24: =Calculations!S18 -> 0 | F24: =Calculations!T18 -> 0 | G24: =Calculations!U18 -> #DIV/0! | L24: Hypertension & pre-eclampsia pathway | M24: =Calculations!Z18 -> 0 | N24: =Calculations!AA18 -> 0 | O24: =Calculations!AB18 -> 0 | P24: =Calculations!AC18 -> #DIV/0!
C25: Pharmaceuticals & Infant formula | E25: =Calculations!S19 -> 0 | F25: =Calculations!T19 -> 0 | G25: =Calculations!U19 -> #DIV/0! | L25: Pelvic floor health pathway | M25: =Calculations!Z19 -> 0 | N25: =Calculations!AA19 -> 0 | O25: =Calculations!AB19 -> 0 | P25: =Calculations!AC19 -> #DIV/0!
C26: Total | D26: =Calculations!R12 -> 0 | E26: =Calculations!S20 -> 0 | F26: =Calculations!T20 -> 0 | G26: =Calculations!U20 -> #DIV/0! | L26: Total | M26: =Calculations!Z12 -> 0 | N26: =Calculations!AA20 -> 0 | O26: =Calculations!AB20 -> 0 | P26: =Calculations!AC20 -> #DIV/0!
C30: Antenatal pathway - CO2e by activity type | L30: Antenatal pathway - CO2e by setting
D32: Total patient count | E32: Total carbon footprint (kg CO2e) | F32: Total carbon footprint (t CO2e) | G32: Carbon footprint per patient (kg CO2e) | M32: Total patient count | N32: Total carbon footprint (kg CO2e) | O32: Total carbon footprint (t CO2e) | P32: Carbon footprint per patient (kg CO2e)
C33: Patient travel | E33: =Calculations!S29 -> 0 | F33: =Calculations!T29 -> 0 | G33: =Calculations!U29 -> #DIV/0! | L33: Outpatients | M33: =Calculations!Z30 -> #DIV/0! | N33: =Calculations!AA30 -> #DIV/0! | O33: =Calculations!AB30 -> #DIV/0! | P33: =Calculations!AC30 -> #DIV/0!
C34: Staff travel (excl. commuting) | E34: =Calculations!S30 -> 0 | F34: =Calculations!T30 -> 0 | G34: =Calculations!U30 -> #DIV/0! | L34: GP | M34: =Calculations!Z31 -> #DIV/0! | N34: =Calculations!AA31 -> #DIV/0! | O34: =Calculations!AB31 -> #DIV/0! | P34: =Calculations!AC31 -> #DIV/0!
C35: Healthcare facility | E35: =Calculations!S31 -> 0 | F35: =Calculations!T31 -> 0 | G35: =Calculations!U31 -> #DIV/0! | L35: Home | M35: =Calculations!Z32 -> #DIV/0! | N35: =Calculations!AA32 -> #DIV/0! | O35: =Calculations!AB32 -> #DIV/0! | P35: =Calculations!AC32 -> #DIV/0!
C36: Ultrasound scans | E36: =Calculations!S32 -> 0 | F36: =Calculations!T32 -> 0 | G36: =Calculations!U32 -> #DIV/0! | L36: DH | M36: =Calculations!Z33 -> #DIV/0! | N36: =Calculations!AA33 -> #DIV/0! | O36: =Calculations!AB33 -> #DIV/0! | P36: =Calculations!AC33 -> #DIV/0!
C37: Total | D37: =Calculations!R27 -> 0 | E37: =Calculations!S33 -> 0 | F37: =Calculations!T33 -> 0 | G37: =Calculations!U33 -> #DIV/0! | L37: Total | M37: =Calculations!Z34 -> #DIV/0! | N37: =Calculations!AA34 -> #DIV/0! | O37: =Calculations!AB34 -> #DIV/0! | P37: =Calculations!AC34 -> #DIV/0!
C42: Intrapartum pathway - CO2e by activity type | L42: Intrapartum pathway - CO2e by setting
D44: Total patient count | E44: Total carbon footprint (kg CO2e) | F44: Total carbon footprint (t CO2e) | G44: Carbon footprint per patient (kg CO2e) | M44: Total patient count | N44: Total carbon footprint (kg CO2e) | O44: Total carbon footprint (t CO2e) | P44: Carbon footprint per patient (kg CO2e)
C45: Patient travel | E45: =Calculations!S43 -> 0 | F45: =Calculations!T43 -> 0 | G45: =Calculations!U43 -> #DIV/0! | L45: Midwife standalone unit | M45: =Calculations!Z44 -> 0 | N45: =Calculations!AA44 -> 0 | O45: =Calculations!AB44 -> 0 | P45: =Calculations!AC44 -> #DIV/0!
C46: Staff travel (excl. commuting) | E46: =Calculations!S44 -> 0 | F46: =Calculations!T44 -> 0 | G46: =Calculations!U44 -> #DIV/0! | L46: Midwife attached unit | M46: =Calculations!Z45 -> 0 | N46: =Calculations!AA45 -> 0 | O46: =Calculations!AB45 -> 0 | P46: =Calculations!AC45 -> #DIV/0!
C47: Healthcare facility | E47: =Calculations!S45 -> 0 | F47: =Calculations!T45 -> 0 | G47: =Calculations!U45 -> #DIV/0! | L47: Home | M47: =Calculations!Z46 -> 0 | N47: =Calculations!AA46 -> 0 | O47: =Calculations!AB46 -> 0 | P47: =Calculations!AC46 -> #DIV/0!
C48: Ultrasound scans | E48: =Calculations!S46 -> 0 | F48: =Calculations!T46 -> 0 | G48: =Calculations!U46 -> #DIV/0! | L48: Obstetrics unit | M48: =Calculations!Z47 -> 0 | N48: =Calculations!AA47 -> 0 | O48: =Calculations!AB47 -> 0 | P48: =Calculations!AC47 -> #DIV/0!
C49: Caesarean surgery | E49: =Calculations!S47 -> 0 | F49: =Calculations!T47 -> 0 | G49: =Calculations!U47 -> #DIV/0! | L49: Total | M49: =Calculations!Z48 -> 0 | N49: =Calculations!AA48 -> 0 | O49: =Calculations!AB48 -> 0 | P49: =Calculations!AC48 -> #DIV/0!
C50: Pharmaceuticals (incl. Entonox) | E50: =Calculations!S48 -> 0 | F50: =Calculations!T48 -> 0 | G50: =Calculations!U48 -> #DIV/0!
C51: Total | D51: =Calculations!R41 -> 0 | E51: =Calculations!S49 -> 0 | F51: =Calculations!T49 -> 0 | G51: =Calculations!U49 -> #DIV/0!
C55: Postnatal pathway - CO2e by activity type | L55: Postnatal pathway - CO2e by setting
D57: Total patient count | E57: Total carbon footprint (kg CO2e) | F57: Total carbon footprint (t CO2e) | G57: Carbon footprint per patient (kg CO2e) | M57: Percent of total interactions | N57: Total carbon footprint (kg CO2e) | O57: Total carbon footprint (t CO2e) | P57: Carbon footprint per patient (kg CO2e)
C58: Patient travel | E58: =Calculations!S58 -> 0 | F58: =Calculations!T58 -> 0 | G58: =Calculations!U58 -> #DIV/0! | L58: Outpatients/Midwife unit | M58: =Calculations!Z59 -> #DIV/0! | N58: =Calculations!AA59 -> 0 | O58: =Calculations!AB59 -> 0 | P58: =Calculations!AC59 -> #DIV/0!
C59: Staff travel (excl. commuting) | E59: =Calculations!S59 -> 0 | F59: =Calculations!T59 -> 0 | G59: =Calculations!U59 -> #DIV/0! | L59: GP Surgery | M59: =Calculations!Z60 -> #DIV/0! | N59: =Calculations!AA60 -> 0 | O59: =Calculations!AB60 -> 0 | P59: =Calculations!AC60 -> #DIV/0!
C60: Healthcare facility | E60: =Calculations!S60 -> 0 | F60: =Calculations!T60 -> 0 | G60: =Calculations!U60 -> #DIV/0! | L60: Home | M60: =Calculations!Z61 -> #DIV/0! | N60: =Calculations!AA61 -> 0 | O60: =Calculations!AB61 -> 0 | P60: =Calculations!AC61 -> #DIV/0!
C61: Ultrasound scans | E61: =Calculations!S61 -> 0 | F61: =Calculations!T61 -> 0 | G61: =Calculations!U61 -> #DIV/0! | L61: Digital health | M61: =Calculations!Z62 -> #DIV/0! | N61: =Calculations!AA62 -> 0 | O61: =Calculations!AB62 -> 0 | P61: =Calculations!AC62 -> #DIV/0!
C62: Pharmaceuticals | E62: =Calculations!S62 -> 0 | F62: =Calculations!T62 -> 0 | G62: =Calculations!U62 -> #DIV/0! | L62: Total | M62: =Calculations!Z63 -> #DIV/0! | N62: =Calculations!AA63 -> 0 | O62: =Calculations!AB63 -> 0 | P62: =Calculations!AC63 -> #DIV/0!
C63: Total | D63: =Calculations!R56 -> 0 | E63: =Calculations!S63 -> 0 | F63: =Calculations!T63 -> 0 | G63: =Calculations!U63 -> #DIV/0!
C67: Infant feeding pathway - CO2e by activity type
D69: Total patient count | E69: Total carbon footprint (kg CO2e) | F69: Total carbon footprint (t CO2e) | G69: Carbon footprint per patient (kg CO2e)
...

Sheet Calculations
A1: Pathway | B1: Activity | C1: Setting | D1: No patients/incidents | E1: Duration (hours) | F1: Patient travel | G1: Staff travel | H1: Setting | I1: Activity | J1: Pharms/products | K1: Total CO2 kg | L1: CO2 per patient kg
A2: Antenatal | B2: Admission packs | C2: Mail | D2: =Antenatal!R7 -> 0 | H2: =D2*'Emission Factors'!$C$10 -> 0 | K2: =SUM(F2:J2) -> 0 | L2: =K2/D2 -> #DIV/0!
B3: Admission packs | C3: email | D3: =Antenatal!R9 -> 0 | H3: =D3*'Emission Factors'!$C$11 -> 0 | K3: =SUM(F3:J3) -> 0 | L3: =K3/D3 -> #DIV/0!
B4: Admission packs | C4: DH | D4: =Antenatal!R11 -> 0 | H4: =D4*'Emission Factors'!$C$12 -> 0 | K4: =SUM(F4:J4) -> 0 | L4: =K4/D4 -> #DIV/0! | R4: Total patient count | S4: Total carbon footprint (kg CO2e) | T4: Total carbon footprint (t CO2e) | U4: Carbon footprint per patient (kg CO2e) | Z4: Total patient count | AA4: Total carbon footprint (kg CO2e) | AB4: Total carbon footprint (t CO2e) | AC4: Carbon footprint per patient (kg CO2e)
A5: Antenatal | B5: AN clinic | C5: Outpatients | D5: =Antenatal!R14 -> 0 | E5: 1 | F5: =D5*'Emission Factors'!C$5*2 -> 0 | H5: =D5*'Emission Factors'!C$15*E5 -> 0 | K5: =SUM(F5:J5) -> 0 | L5: =K5/D5 -> #DIV/0!
B6: AN clinic | C6: GP | D6: =Antenatal!R16 -> 0 | E6: 0.5 | F6: =D6*'Emission Factors'!C$4*2 -> 0 | H6: =D6*'Emission Factors'!C$3 -> 0 | K6: =SUM(F6:J6) -> 0 | L6: =K6/D6 -> #DIV/0!
B7: AN clinic | C7: Home | D7: =Antenatal!R18 -> 0 | E7: 1 | G7: =D7*'Emission Factors'!C$5 -> 0 | K7: =SUM(F7:J7) -> 0 | L7: =K7/D7 -> #DIV/0!
B8: AN clinic | C8: DH | D8: =Antenatal!R20 -> 0 | H8: =D8*'Emission Factors'!$C$12 -> 0 | K8: =SUM(F8:J8) -> 0 | L8: =K8/D8 -> #DIV/0!
B9: AN classes | C9: Outpatients | D9: =Antenatal!R23 -> 0 | E9: 1 | F9: =D9*'Emission Factors'!C$5*2 -> 0 | H9: =D9*'Emission Factors'!C$15*E9 -> 0 | K9: =SUM(F9:J9) -> 0 | L9: =K9/D9 -> #DIV/0!
B10: AN classes | C10: GP | D10: =Antenatal!R25 -> 0 | E10: 0.5 | F10: =D10*'Emission Factors'!C$4*2 -> 0 | H10: =D10*'Emission Factors'!C$3 -> 0 | K10: =SUM(F10:J10) -> 0 | L10: =K10/D10 -> #DIV/0!
B11: AN classes | C11: 3rd Party | D11: =Antenatal!R27 -> 0 | E11: 1 | F11: =D11*'Emission Factors'!C$4*2 -> 0 | H11: =D11*'Emission Factors'!C$3 -> 0 | K11: =SUM(F11:J11) -> 0 | L11: =K11/D11 -> #DIV/0!
B12: AN classes | C12: DH | D12: =Antenatal!R29 -> 0 | H12: =D12*'Emission Factors'!$C$12 -> 0 | K12: =SUM(F12:J12) -> 0 | L12: =K12/D12 -> #DIV/0! | O12: Total maternity pathway | R12: =Antenatal!$L4 -> 0 | S12: =SUM($K$2:$K$64) -> 0 | T12: =S12*0.001 -> 0 | U12: =S12/$R$12 -> #DIV/0! | W12: Total maternity pathway | Z12: =Antenatal!$L4 -> 0 | AA12: =SUM($K$2:$K$64) -> 0 | AB12: =AA12*0.001 -> 0 | AC12: =AA12/$R$12 -> #DIV/0!
B13: AN samples | C13: OP | D13: =Antenatal!R32 -> 0 | E13: 1 | F13: =D13*'Emission Factors'!C$4*2 -> 0 | H13: =D13*'Emission Factors'!C$15*E13 -> 0 | K13: =SUM(F13:J13) -> 0 | L13: =K13/D13 -> #DIV/0!
B14: AN samples | C14: Home | D14: =Antenatal!R34 -> 0 | E14: 1 | G14: =D14*'Emission Factors'!C$5 -> 0 | K14: =SUM(F14:J14) -> 0 | L14: =K14/D14 -> #DIV/0! | O14: Patient travel | S14: =SUM($F$2:$F$64) -> 0 | T14: =S14*0.001 -> 0 | U14: =S14/$R$12 -> #DIV/0! | W14: =O27 -> Antenatal pathway | Z14: =R27 -> 0 | AA14: =S27 -> 0 | AB14: =AA14*0.001 -> 0 | AC14: =AA14/$R$12 -> #DIV/0!
B15: Ultrasound | C15: Ultrasound | D15: =Antenatal!R37 -> 0 | E15: 0.5 | F15: =D15*'Emission Factors'!C$5*2 -> 0 | H15: =D15*'Emission Factors'!C$8*E15/24 -> 0 | I15: =D15*'Emission Factors'!C$2 -> 0 | K15: =SUM(F15:J15) -> 0 | L15: =K15/D15 -> #DIV/0! | O15: Staff travel (excl. commuting) | S15: =SUM($G$2:$G$64) -> 0 | T15: =S15*0.001 -> 0 | U15: =S15/$R$12 -> #DIV/0! | W15: =O41 -> Intrapartum pathway | Z15: =R41 -> 0 | AA15: =S41 -> 0 | AB15: =AA15*0.001 -> 0 | AC15: =AA15/$R$12 -> #DIV/0!
A16: Intrapartum | B16: Self travel | C16: Midwife standalone unit | D16: ='MW-led Intrapartum'!M10 -> 0 | F16: =D16*'Emission Factors'!C$5*2 -> 0 | K16: =SUM(F16:J16) -> 0 | L16: =K16/D16 -> #DIV/0! | O16: Healthcare facility | S16: =SUM($H$2:$H$64) -> 0 | T16: =S16*0.001 -> 0 | U16: =S16/$R$12 -> #DIV/0! | W16: =O56 -> Postnatal pathway | Z16: =Postnatal!O4 -> 0 | AA16: =S56 -> 0 | AB16: =AA16*0.001 -> 0 | AC16: =AA16/$R$12 -> #DIV/0!
B17: non-em ambulance | C17: Midwife standalone unit | D17: ='MW-led Intrapartum'!W10 -> 0 | F17: =D17*'Emission Factors'!C$6*2 -> 0 | K17: =SUM(F17:J17) -> 0 | L17: =K17/D17 -> #DIV/0! | O17: Ultrasound scans | S17: =SUM($I$2:$I$44,$I$47:$I$64) -> 0 | T17: =S17*0.001 -> 0 | U17: =S17/$R$12 -> #DIV/0! | W17: =O70 -> Infant feeding pathway | Z17: =R70 -> 0 | AA17: =S70 -> 0 | AB17: =AA17*0.001 -> 0 | AC17: =AA17/$R$12 -> #DIV/0!
B18: em ambulance | C18: Midwife standalone unit | D18: ='MW-led Intrapartum'!T12 -> 0 | F18: =D18*'Emission Factors'!C$7*2 -> 0 | K18: =SUM(F18:J18) -> 0 | L18: =K18/D18 -> #DIV/0! | O18: Caesarean surgery | S18: =SUM($I$45:$I$46) -> 0 | T18: =S18*0.001 -> 0 | U18: =S18/$R$12 -> #DIV/0! | W18: =O82 -> Hypertension & pre-eclampsia pathway | Z18: =R82 -> 0 | AA18: =S82 -> 0 | AB18: =AA18*0.001 -> 0 | AC18: =AA18/$R$12 -> #DIV/0!
B19: Vaginal birth | C19: Midwife standalone unit | D19: ='MW-led Intrapartum'!O14 -> 0 | H19: =D19*'Emission Factors'!C$13 -> 0 | K19: =SUM(F19:J19) -> 0 | L19: =K19/D19 -> #DIV/0! | O19: Pharmaceuticals & Infant formula | S19: =SUM($J$2:$J$64) -> 0 | T19: =S19*0.001 -> 0 | U19: =S19/$R$12 -> #DIV/0! | W19: =O95 -> Pelvic floor pathway | Z19: =R95 -> 0 | AA19: =S95 -> 0 | AB19: =AA19*0.001 -> 0 | AC19: =AA19/$R$12 -> #DIV/0!
B20: in-patient - LIBD | C20: Midwife standalone unit | D20: ='MW-led Intrapartum'!M10 -> 0 | E20: ='MW-led Intrapartum'!T14 -> 0 | H20: =E20*'Emission Factors'!C$8 -> 0 | K20: =SUM(F20:J20) -> 0 | L20: =K20/D20 -> #DIV/0! | O20: Total maternity pathway | S20: =SUM(S14:S19) -> 0 | T20: =SUM(T14:T19) -> 0 | U20: =S20/$R$12 -> #DIV/0! | W20: Total maternity pathway | AA20: =SUM(AA14:AA19) -> 0 | AB20: =SUM(AB14:AB19) -> 0 | AC20: =AA20/$R$12 -> #DIV/0!
B21: Entonox | C21: Midwife standalone unit | D21: ='MW-led Intrapartum'!Q16 -> 0 | J21: =D21*'Emission Factors'!$C$9 -> 0 | K21: =SUM(F21:J21) -> 0 | L21: =K21/D21 -> #DIV/0!
B22: Pethidine | C22: Midwife standalone unit | D22: ='MW-led Intrapartum'!W16 -> 0 | J22: =D22*'Emission Factors'!C$17 -> 0 | K22: =SUM(F22:J22) -> 0 | L22: =K22/D22 -> #DIV/0! | R22: Total patient count | S22: Total carbon footprint (kg CO2e) | T22: Total carbon footprint (t CO2e) | U22: Carbon footprint per patient (kg CO2e)
B23: Self travel | C23: Midwife attached unit | D23: ='MW-led Intrapartum'!T22 -> 0 | F23: =D23*'Emission Factors'!C$5*2 -> 0 | K23: =SUM(F23:J23) -> 0 | L23: =K23/D23 -> #DIV/0! | Z23: Total patient count | AA23: Total carbon footprint (kg CO2e) | AB23: Total carbon footprint (t CO2e) | AC23: Carbon footprint per patient (kg CO2e)
B24: non-em ambulance | C24: Midwife attached unit | D24: ='MW-led Intrapartum'!W22 -> 0 | F24: =D24*'Emission Factors'!C$6*2 -> 0 | K24: =SUM(F24:J24) -> 0 | L24: =K24/D24 -> #DIV/0!
B25: em ambulance | C25: Midwife attached unit | D25: ='MW-led Intrapartum'!T24 -> 0 | F25: =D25*'Emission Factors'!C$7*2 -> 0 | K25: =SUM(F25:J25) -> 0 | L25: =K25/D25 -> #DIV/0!
B26: Vaginal birth | C26: Midwife attached unit | D26: ='MW-led Intrapartum'!O26 -> 0 | H26: =D26*'Emission Factors'!C$13 -> 0 | K26: =SUM(F26:J26) -> 0 | L26: =K26/D26 -> #DIV/0!
B27: in-patient - LIBD | C27: Midwife attached unit | D27: ='MW-led Intrapartum'!T26 -> 0 | H27: =D27*'Emission Factors'!C$8 -> 0 | K27: =SUM(F27:J27) -> 0 | L27: =K27/D27 -> #DIV/0! | O27: Antenatal pathway | R27: =Antenatal!L4 -> 0 | S27: =SUM($K$2:$K$15) -> 0 | T27: =S27*0.001 -> 0 | U27: =S27/$R$27 -> #DIV/0!
B28: Entonox | C28: Midwife attached unit | D28: ='MW-led Intrapartum'!Q28 -> 0 | E28: ='MW-led Intrapartum'!U28 -> 0 | J28: =D28*'Emission Factors'!$C$9 -> 0 | K28: =SUM(F28:J28) -> 0 | L28: =K28/D28 -> #DIV/0! | W28: Antenatal pathway | Z28: =R27 -> 0 | AA28: =SUM($K$2:$K$15) -> 0 | AB28: =AA28*0.001 -> 0 | AC28: =AA28/$Z$28 -> #DIV/0!
B29: Pethidine | C29: Midwife attached unit | D29: ='MW-led Intrapartum'!W28 -> 0 | J29: =D29*'Emission Factors'!C$17 -> 0 | K29: =SUM(F29:J29) -> 0 | L29: =K29/D29 -> #DIV/0! | O29: Patient travel | S29: =SUM($F$2:F$15) -> 0 | T29: =S29*0.001 -> 0 | U29: =S29/$R$12 -> #DIV/0! | X29: Setting
B30: Staff travel | C30: Home | D30: ='MW-led Intrapartum'!M34 -> 0 | G30: =D30*'Emission Factors'!C$5*2 -> 0 | K30: =SUM(F30:J30) -> 0 | L30: =K30/D30 -> #DIV/0! | O30: Staff travel (excl. commuting) | S30: =SUM($G$2:$G$15) -> 0 | T30: =S30*0.001 -> 0 | U30: =S30/$R$12 -> #DIV/0! | W30: =C2 -> Mail | Z30: =$Z$28*Antenatal!$R$14/SUM(Antenatal!$R$14:$R$20) -> #DIV/0! | AA30: =$K$2+SUM($K$9:$K$15)*Antenatal!$R$14/SUM(Antenatal!$R$14:$R$20) -> #DIV/0! | AB30: =AA30*0.001 -> #DIV/0! | AC30: =AA30/$R$12 -> #DIV/0!
B31: Vaginal birth | C31: Home | D31: ='MW-led Intrapartum'!U34 -> 0 | I31: =SUM(D31*'Emission Factors'!C14) -> 0 | K31: =SUM(F31:J31) -> 0 | O31: Healthcare facility | S31: =SUM($H$2:$H$15) -> 0 | T31: =S31*0.001 -> 0 | U31: =S31/$R$12 -> #DIV/0! | W31: =C3 -> email | Z31: =$Z$28*Antenatal!$R$16/SUM(Antenatal!$R$14:$R$20) -> #DIV/0! | AA31: =$K$3+SUM($K$9:$K$15)*Antenatal!$R$16/SUM(Antenatal!$R$14:$R$20) -> #DIV/0! | AB31: =AA31*0.001 -> #DIV/0! | AC31: =AA31/$R$12 -> #DIV/0!
B32: Entonox | C32: Home | D32: ='MW-led Intrapartum'!Q36 -> 0 | E32: ='MW-led Intrapartum'!U36 -> 0 | J32: =D32*'Emission Factors'!$C$9 -> 0 | K32: =SUM(F32:J32) -> 0 | L32: =K32/D32 -> #DIV/0! | O32: Ultrasound scans | S32: =SUM($I$2:$I$15) -> 0 | T32: =S32*0.001 -> 0 | U32: =S32/$R$12 -> #DIV/0! | W32: =C4 -> DH | Z32: =$Z$28*Antenatal!$R$18/SUM(Antenatal!$R$14:$R$20) -> #DIV/0! | AA32: =$K$4+SUM($K$9:$K$15)*Antenatal!$R$18/SUM(Antenatal!$R$14:$R$20) -> #DIV/0! | AB32: =AA32*0.001 -> #DIV/0! | AC32: =AA32/$R$12 -> #DIV/0!
B33: Pethidine | C33: Home | D33: ='MW-led Intrapartum'!W36 -> 0 | J33: =D33*'Emission Factors'!C$17 -> 0 | K33: =SUM(F33:J33) -> 0 | L33: =K33/D33 -> #DIV/0! | O33: Antenatal pathway | S33: =SUM(S29:S32) -> 0 | T33: =SUM(T29:T32) -> 0 | U33: =S33/$R$27 -> #DIV/0! | W33: =C8 -> DH | Z33: =$Z$28*Antenatal!$R$20/SUM(Antenatal!$R$14:$R$20) -> #DIV/0! | AA33: =$K$8+SUM($K$9:$K$15)*Antenatal!$R$20/SUM(Antenatal!$R$14:$R$20) -> #DIV/0! | AB33: =AA33*0.001 -> #DIV/0! | AC33: =AA33/$R$12 -> #DIV/0!
B34: Self travel | C34: OG unit | D34: ='OG-led Intrapartum'!S8 -> 0 | F34: =D34*'Emission Factors'!C$5*2 -> 0 | K34: =SUM(F34:J34) -> 0 | L34: =K34/D34 -> #DIV/0! | W34: Total antenatatal pathway | Z34: =SUM(Z30:Z33) -> #DIV/0! | AA34: =SUM(AA30:AA33) -> #DIV/0! | AB34: =SUM(AB30:AB33) -> #DIV/0! | AC34: =AA34/$Z$28 -> #DIV/0!
B35: non-em ambulance | C35: OG unit | D35: ='OG-led Intrapartum'!W8 -> 0 | F35: =D35*'Emission Factors'!C$6*2 -> 0 | K35: =SUM(F35:J35) -> 0 | L35: =K35/D35 -> #DIV/0!
B36: em ambulance | C36: OG unit | D36: ='OG-led Intrapartum'!AA8 -> 0 | F36: =D36*'Emission Factors'!C$7*2 -> 0 | K36: =SUM(F36:J36) -> 0 | L36: =K36/D36 -> #DIV/0! | R36: Total patient count | S36: Total carbon footprint (kg CO2e) | T36: Total carbon footprint (t CO2e) | U36: Carbon footprint per patient (kg CO2e)
B37: Vaginal birth | C37: OG unit | D37: ='OG-led Intrapartum'!S10 -> 0 | H37: =D37*'Emission Factors'!C$13 -> 0 | K37: =SUM(F37:J37) -> 0 | L37: =K37/D37 -> #DIV/0! | Z37: Total patient count | AA37: Total carbon footprint (kg CO2e) | AB37: Total carbon footprint (t CO2e) | AC37: Carbon footprint per patient (kg CO2e)
B38: in-patient - LIBD | C38: OG unit | D38: ='OG-led Intrapartum'!O4 -> 0 | E38: ='OG-led Intrapartum'!Y10 -> 0 | H38: =E38*'Emission Factors'!C$8 -> 0 | K38: =SUM(F38:J38) -> 0 | L38: =K38/D38 -> #DIV/0!
B39: Entonox | C39: OG unit | D39: ='OG-led Intrapartum'!U12 -> 0 | J39: =D39*'Emission Factors'!$C$9 -> 0 | K39: =SUM(F39:J39) -> 0 | L39: =K39/D39 -> #DIV/0!
B40: Epidural | C40: OG unit | D40: ='OG-led Intrapartum'!AA12 -> 0 | J40: =D40*'Emission Factors'!C$16 -> 0 | K40: =SUM(F40:J40) -> 0 | L40: =K40/D40 -> #DIV/0!
...

Sheet Emission Factors
A1: Category | B1: Product or activity | C1: GHG Emissions (kg CO2e) | D1: Unit | E1: Source
A2: Diagnostics | B2: Ultrasound | C2: 0.5 | D2: per scan | E2: McAlister S, McGain F, Petersen M, Story D, Charlesworth K, Ison G, Barratt A. The carbon footprint of hospital diagnostic imaging in Australia. Lancet Reg Health West Pac. 2022 May 3;24:100459. doi: 10.1016/j.lanwpc.2022.100459. PMID: 35538935; PMCID: PMC9079346.
A3: GP Consultation | B3: GP Consultation | C3: 1.1 | D3: per visit | E3: Care Pathways: Guidance on Appraising Sustainability, November 2023
A4: Patient travel | B4: Self - to GP | C4: 0.56 | D4: per one way trip | E4: Care Pathways: Guidance on Appraising Sustainability, November 2023
A5: Patient travel | B5: Self - to elective care | C5: 2.9 | D5: per one way trip | E5: Care Pathways: Guidance on Appraising Sustainability, November 2023
A6: Patient travel | B6: Provided non-emergency | C6: 7.9 | D6: per one way trip | E6: Care Pathways: Guidance on Appraising Sustainability, November 2023
A7: Patient travel | B7: Provided emergency | C7: 36 | D7: per one way trip | E7: Care Pathways: Guidance on Appraising Sustainability, November 2023
A8: Inpatient admission | B8: Low intensity bed day (LIBD) | C8: 38 | D8: per day | E8: Care Pathways: Guidance on Appraising Sustainability, November 2023
A9: Entonox | C9: 237.33 | D9: kg per labour | E9: https://associationofanaesthetists-publications.onlinelibrary.wiley.com/doi/10.1111/anae.15678
A10: DigiHealth | B10: Letter | C10: 0.2835 | D10: 2 pieces of paper by post | E10: (taken from GNHS)
A11: DigiHealth | B11: email | C11: 0.017 | D11: long email taking 3 mins to read (both taken from Mike Berners Lee) | E11: (taken from Mike Berners Lee)
A12: DigiHealth | B12: OPA telephone consultation | C12: 0.1 | D12: per consultation | E12: (taken from GNHS)
A13: Vaginal birth | C13: 9.4 | E13: https://obgyn.onlinelibrary.wiley.com/doi/10.1111/1471-0528.17771
A14: Vaginal home birth | C14: 5.93 | E14: https://pubmed.ncbi.nlm.nih.gov/38272843/
A15: OP appointment | B15: OP appointment | C15: =C8/24 -> 1.5833333 | D15: per hour | E15: (Assumed x1/24 of LIBD)
A16: Pharmaceuticals | B16: Vial - 100mg in 0.5ml Injection | C16: 0.7438 | D16: Syringe | E16: NUTH ICHD 2022
A17: Pharmaceuticals | B17: Vial - 60mg in 0.3ml Injection | C17: 0.4638 | D17: Syringe | E17: NUTH ICHD 2022
A18: Pharmaceuticals | B18: Vial - 30mg in 0.3ml Injection | C18: 0.2538 | D18: Syringe | E18: NUTH ICHD 2022
A19: Pharmaceuticals | B19: Paracetamol - 500mg Tablet | C19: 0.7628 | D19: Tablet | E19: NUTH ICHD 2022
A20: Pharmaceuticals | B20: Sodium Chloride - 0.9% Solution for Infusion | C20: 0.7558 | D20: 1000ml bag | E20: NUTH ICHD 2022
A21: Infant formula | B21: Infant formula | C21: 27.5 | D21: 2 months | E21: https://www.ncbi.nlm.nih.gov/pmc/articles/PMC9180168/#app1-ijerph-19-06397
A22: Diagnostics | B22: PlGF | C22: 0.116 | D22: Test | E22: Oxford PlGF case study
A23: Surgery | B23: Default | C23: 22.4274 | D23: per hour of surgery | E23: Care Pathways: Guidance on Appraising Sustainability, Surgical Procedure Module, November 2024
